BEGIN:VCALENDAR
VERSION:2.0
PRODID:-//Miziziyangu - ECPv6.14.0//NONSGML v1.0//EN
CALSCALE:GREGORIAN
METHOD:PUBLISH
X-ORIGINAL-URL:https://miziziyangu.com
X-WR-CALDESC:Events for Miziziyangu
REFRESH-INTERVAL;VALUE=DURATION:PT1H
X-Robots-Tag:noindex
X-PUBLISHED-TTL:PT1H
BEGIN:VTIMEZONE
TZID:Europe/Helsinki
BEGIN:DAYLIGHT
TZOFFSETFROM:+0200
TZOFFSETTO:+0300
TZNAME:EEST
DTSTART:20260329T010000
END:DAYLIGHT
BEGIN:STANDARD
TZOFFSETFROM:+0300
TZOFFSETTO:+0200
TZNAME:EET
DTSTART:20261025T010000
END:STANDARD
END:VTIMEZONE
BEGIN:VEVENT
DTSTART;TZID=Europe/Helsinki:20260418T180000
DTEND;TZID=Europe/Helsinki:20260418T220000
DTSTAMP:20260421T185553
CREATED:20260417T051642Z
LAST-MODIFIED:20260417T052510Z
UID:11597-1776535200-1776549600@miziziyangu.com
SUMMARY:South African soprano fresh from English National Opera headlines CHARITY Gala at Hyde Park Corner
DESCRIPTION:A Cape Town soprano who recently performed with English National Opera in London will headline a charity gala dinner at The Forum\, Hyde Park Corner on 18 April 2026\, raising funds to support young South African singing talent. \n“Four Countries\, Four Voices”\, presented by The Excellence out of Africa Trust in collaboration with Diemersfontein Wine Estate\, pairs four South African singers with a four-course European menu. Each course corresponds to a different European country\, matched with arias and songs from that nation\, prepared by The Forum’s chefs. Wines are provided by Diemersfontein Wine Estate and the singers will be accompanied on piano by Andrew Duncan. \nThe Excellence out of Africa Trust was founded by David and Susan Sonnenberg of Diemersfontein Wine Estate in Wellington. It raises funds to support young South African singers through masterclasses\, travel bursaries and study subsidies. \nTickets are R850 per person (includes dinner\, wine and performance) and are available through Quicket. Seats are limited. Bookings can be made here: https://www.quicket.co.za/events/363315-four-countries-four-voices/#/
URL:https://miziziyangu.com/event/south-african-soprano-fresh-from-english-national-opera-headlines-charity-gala-at-hyde-park-corner/
ATTACH;FMTTYPE=image/jpeg:https://miziziyangu.com/wp-content/uploads/2026/04/Four-Countries-Four-Voices-Facebook-Instagram.jpg
END:VEVENT
BEGIN:VEVENT
DTSTART;TZID=Europe/Helsinki:20260425T150000
DTEND;TZID=Europe/Helsinki:20260425T173000
DTSTAMP:20260421T185553
CREATED:20260417T060139Z
LAST-MODIFIED:20260417T060139Z
UID:11604-1777129200-1777138200@miziziyangu.com
SUMMARY:@Sandton Spa and Eminence Organic Skin Care Host a Ladies' High Tea
DESCRIPTION:High tea gets a wellness twist this April\, as @Sandton Spa partners with Eminence Organic Skin Care for an afternoon dedicated to good company and a little well-earned pampering. \nTaking place at the @Sandton Hotel Clubhouse on Saturday\, 25 April\, the event brings together a curated high tea spread\, relaxing massage tasters and beauty gifts from both @Sandton Spa and Eminence Organic Skin Care. A lucky draw rounds out what promises to be a rather lovely way to spend a Saturday afternoon. \nThe event will be hosted by the @Sandton Spa Manager alongside the Eminence team\, with every detail designed to feel considered rather than rushed. \nTickets are R500 per person and include a gift bag. \nBookings can be made by emailing spa@sandton-hotel.co.za – seats are limited.
URL:https://miziziyangu.com/event/sandton-spa-and-eminence-organic-skin-care-host-a-ladies-high-tea/
ATTACH;FMTTYPE=image/jpeg:https://miziziyangu.com/wp-content/uploads/2026/04/@SANDTON-SPA_High-Tea-with-Eminence-scaled.jpg
END:VEVENT
BEGIN:VEVENT
DTSTART;VALUE=DATE:20260501
DTEND;VALUE=DATE:20260504
DTSTAMP:20260421T185553
CREATED:20260127T015246Z
LAST-MODIFIED:20260127T015611Z
UID:11296-1777593600-1777852799@miziziyangu.com
SUMMARY:Christopher Sabat to Attend Comic Con Cape Town with Capitec 2026
DESCRIPTION:Con-goers will also have the opportunity to meet Christopher Sabat through scheduled autograph sessions and professional photo opportunities\, available via Howler. \nTo be eligible to purchase autograph or photo opportunity tickets\, fans must already have a valid Comic Con Cape Town 2026 ticket. Tickets are available on Howler: https://comiccon.howler.co.za/CCCT2026
URL:https://miziziyangu.com/event/christopher-sabat-to-attend-comic-con-cape-town-with-capitec-2026/
ATTACH;FMTTYPE=image/jpeg:https://miziziyangu.com/wp-content/uploads/2026/01/Talen-Announcement_Sabat.jpeg
END:VEVENT
END:VCALENDAR