BEGIN:VCALENDAR
VERSION:2.0
PRODID:-//Miziziyangu - ECPv6.14.0//NONSGML v1.0//EN
CALSCALE:GREGORIAN
METHOD:PUBLISH
X-WR-CALNAME:Miziziyangu
X-ORIGINAL-URL:https://miziziyangu.com
X-WR-CALDESC:Events for Miziziyangu
REFRESH-INTERVAL;VALUE=DURATION:PT1H
X-Robots-Tag:noindex
X-PUBLISHED-TTL:PT1H
BEGIN:VTIMEZONE
TZID:UTC
BEGIN:STANDARD
TZOFFSETFROM:+0000
TZOFFSETTO:+0000
TZNAME:UTC
DTSTART:20220101T000000
END:STANDARD
END:VTIMEZONE
BEGIN:VEVENT
DTSTART;TZID=UTC:20220626T120000
DTEND;TZID=UTC:20220626T190000
DTSTAMP:20260425T185040
CREATED:20220622T124452Z
LAST-MODIFIED:20220622T124452Z
UID:4868-1656244800-1656270000@miziziyangu.com
SUMMARY:Month end Music Lunch at Clico Boutique Hotel & Restaurant:
DESCRIPTION:These legendary lunches with live music are the perfect way to end off the month and ease into the week ahead. \nMenu: Three-course menu with Steenberg wine pairing \nLive Entertainment: Soul Tone \nbook your spot online now.
URL:https://miziziyangu.com/event/month-end-music-lunch-at-clico-boutique-hotel-restaurant/
ATTACH;FMTTYPE=image/jpeg:https://miziziyangu.com/wp-content/uploads/2022/06/Clico-Boutique-Hotel.jpg
END:VEVENT
BEGIN:VEVENT
DTSTART;TZID=UTC:20220623T180000
DTEND;TZID=UTC:20220624T210000
DTSTAMP:20260425T185040
CREATED:20220624T133040Z
LAST-MODIFIED:20220624T133040Z
UID:4902-1656007200-1656104400@miziziyangu.com
SUMMARY:The Drakensberg Boys Choir is returning to the Joburg Theatre after 4 years!
DESCRIPTION:Pre Concert Cocktail Party starts at 18h00
URL:https://miziziyangu.com/event/the-drakensberg-boys-choir-is-returning-to-the-joburg-theatre-after-4-years/
ATTACH;FMTTYPE=image/jpeg:https://miziziyangu.com/wp-content/uploads/2022/06/Drakensberg-Boys-Choir-poster.jpg
END:VEVENT
BEGIN:VEVENT
DTSTART;VALUE=DATE:20220609
DTEND;VALUE=DATE:20220620
DTSTAMP:20260425T185040
CREATED:20220608T115236Z
LAST-MODIFIED:20220613T180347Z
UID:4795-1654732800-1655683199@miziziyangu.com
SUMMARY:Hyde Park Corner is the place to be this Father’s Day if you appreciate sports cars and F1!
DESCRIPTION:Date: 9 Jun – 19 Jun \nTime: 9:00 – 17:00 \nPrice: R150 per simulation drive \nVenue: Hyde Park Corner\, Centre Court
URL:https://miziziyangu.com/event/made-to-experience-that-adrenalin-rush/
ATTACH;FMTTYPE=image/jpeg:https://miziziyangu.com/wp-content/uploads/2022/06/HPC-FD-Day1-8-scaled.jpg
END:VEVENT
BEGIN:VEVENT
DTSTART;VALUE=DATE:20220520
DTEND;VALUE=DATE:20220523
DTSTAMP:20260425T185040
CREATED:20220321T094828Z
LAST-MODIFIED:20220321T101953Z
UID:4385-1653004800-1653263999@miziziyangu.com
SUMMARY:SA's #1 digital parenting portal launches even bigger 2022 Virtual Parenting Experience powered by Momentum Medical Scheme.
DESCRIPTION:  \nbyYumYum. \n\n\n\nVirtual Parenting Experience.
URL:https://miziziyangu.com/event/sas-1-digital-parenting-portal-launches-even-bigger-2022-virtual-parenting-experience-powered-by-momentum-medical-scheme/
ATTACH;FMTTYPE=image/png:https://miziziyangu.com/wp-content/uploads/2022/03/Momentum.png
END:VEVENT
BEGIN:VEVENT
DTSTART;TZID=UTC:20220430T070000
DTEND;TZID=UTC:20220430T120000
DTSTAMP:20260425T185040
CREATED:20220427T164447Z
LAST-MODIFIED:20220428T091936Z
UID:4618-1651302000-1651320000@miziziyangu.com
SUMMARY:Made to be Fit.
DESCRIPTION:Fit is the new fabulous! \nHyde Park Corner is the venue for Fitness Market hosted by SWT which is headed up by well-known personal trainer Thato Manaka. \n 
URL:https://miziziyangu.com/event/fit-fabulous-at-hyde-park-corner/
ATTACH;FMTTYPE=image/jpeg:https://miziziyangu.com/wp-content/uploads/2022/04/HPC_FM_Social-Square_v2.jpg
END:VEVENT
END:VCALENDAR