BEGIN:VCALENDAR
VERSION:2.0
PRODID:-//Miziziyangu - ECPv6.14.0//NONSGML v1.0//EN
CALSCALE:GREGORIAN
METHOD:PUBLISH
X-ORIGINAL-URL:https://miziziyangu.com
X-WR-CALDESC:Events for Miziziyangu
REFRESH-INTERVAL;VALUE=DURATION:PT1H
X-Robots-Tag:noindex
X-PUBLISHED-TTL:PT1H
BEGIN:VTIMEZONE
TZID:Europe/Helsinki
BEGIN:DAYLIGHT
TZOFFSETFROM:+0200
TZOFFSETTO:+0300
TZNAME:EEST
DTSTART:20250330T010000
END:DAYLIGHT
BEGIN:STANDARD
TZOFFSETFROM:+0300
TZOFFSETTO:+0200
TZNAME:EET
DTSTART:20251026T010000
END:STANDARD
END:VTIMEZONE
BEGIN:VEVENT
DTSTART;VALUE=DATE:20250620
DTEND;VALUE=DATE:20250622
DTSTAMP:20260426T035032
CREATED:20250617T163636Z
LAST-MODIFIED:20250617T163907Z
UID:9550-1750377600-1750550399@miziziyangu.com
SUMMARY:Africa’s First-Ever Glamping Expo Backs SA’s G20 Focus on Sustainability and Inclusive Growth
DESCRIPTION:As South Africa chairs the G20 in 2025 under the theme “Solidarity\, Equality\, Sustainability”\, the continent is preparing to host the first-ever Glamping Expo in Africa\, taking place from 20–21 June 2025 at the Johannesburg Expo Centre. \nThis groundbreaking event will spotlight glamping—the fusion of glamour and camping—as a fast-growing\, eco-conscious travel trend that aligns with the G20’s key priorities: climate action\, innovation\, and inclusive economic growth. \nTourism leaders\, sustainability experts\, and glamping innovators such as Faith Meyer\, Frank De Lima\, Jillian Blackbeard\, and Siphelele Luthuli will headline the expo\, which aims to position Africa as a global leader in regenerative and experiential tourism. \nFor more information visit www.glampingexpo.africa \n 
URL:https://miziziyangu.com/event/africas-first-ever-glamping-expo-backs-sas-g20-focus-on-sustainability-and-inclusive-growth/
ATTACH;FMTTYPE=image/jpeg:https://miziziyangu.com/wp-content/uploads/2025/06/Glamping-Expo-.jpg
END:VEVENT
END:VCALENDAR