BEGIN:VCALENDAR
VERSION:2.0
PRODID:-//Miziziyangu - ECPv6.14.0//NONSGML v1.0//EN
CALSCALE:GREGORIAN
METHOD:PUBLISH
X-ORIGINAL-URL:https://miziziyangu.com
X-WR-CALDESC:Events for Miziziyangu
REFRESH-INTERVAL;VALUE=DURATION:PT1H
X-Robots-Tag:noindex
X-PUBLISHED-TTL:PT1H
BEGIN:VTIMEZONE
TZID:Europe/Helsinki
BEGIN:DAYLIGHT
TZOFFSETFROM:+0200
TZOFFSETTO:+0300
TZNAME:EEST
DTSTART:20240331T010000
END:DAYLIGHT
BEGIN:STANDARD
TZOFFSETFROM:+0300
TZOFFSETTO:+0200
TZNAME:EET
DTSTART:20241027T010000
END:STANDARD
END:VTIMEZONE
BEGIN:VEVENT
DTSTART;VALUE=DATE:20240924
DTEND;VALUE=DATE:20240925
DTSTAMP:20260425T180022
CREATED:20240918T155559Z
LAST-MODIFIED:20240918T155559Z
UID:8159-1727136000-1727222399@miziziyangu.com
SUMMARY:Celebrate Africa’s Heritage Beyond Heritage Day
DESCRIPTION:Heritage Day is fast approaching\, and there’s no better way to celebrate South Africa’s diverse cultural tapestry than by visiting the Rosebank Art & Craft Market. Located at Rosebank Mall on Cradock Avenue\, this market is a treasure trove rich in African heritage\, offering a unique opportunity for locals and tourists alike to immerse themselves in the vibrant traditions of the continent. Far more than just a tourist attraction\, the market is a hub for supporting African artisans and bringing the beauty of African craftsmanship into your home. \n\n 
URL:https://miziziyangu.com/event/celebrate-africas-heritage-beyond-heritage-day/
ATTACH;FMTTYPE=image/jpeg:https://miziziyangu.com/wp-content/uploads/2024/09/Rosebank-Art-and-Craft-Market-1.jpg
END:VEVENT
END:VCALENDAR